Workbook
Name DatosExternos_1: 'Entidades Fiscalizadas'!$B$1:$B$219

Sheet datos
A1: FUENTES DE FINANCIAMIENTO
A2: 1. Recursos Fiscales
A3: 2. Financiamientos Internos
A4: 3. Financiamientos Externos
A5: 4. Ingresos Propios
A6: 5. Recursos Federales
A7: 6. Recursos Estatales
A8: 7. Otros Recursos

Sheet Entidades Fiscalizadas
A1: CLAVE | B1: NOMBRE
A3: 01-01 | B3: Puebla
A4: 07-01 | B4: San Martín Texmelucan
A5: 07-02 | B5: Chiautzingo
A6: 07-03 | B6: Huejotzingo
A7: 07-04 | B7: San Felipe Teotlalcingo
A8: 07-05 | B8: San Matías Tlalancaleca
A9: 07-06 | B9: San Salvador el Verde
A10: 07-07 | B10: Tlahuapan
A11: 08-01 | B11: San Pedro Cholula
A12: 08-02 | B12: Calpan
A13: 08-03 | B13: Coronango
... A248: 95-03 | B248: Rastro Regional Zacatlán-Chignahuapan

Sheet INVENTARIO 24-27 
A1: MUNICIPIO DE AMIXTLAN, PUEBLA
A2: RFC: MAP850101KU5
A3: INVENTARIO DE BIENES MUEBLES
A5: NO. | B5: NUMERO DE INVENARIO | C5: CODIGO DE LA RELACION QUE COMPONE EL PATRIMONIO | D5: CUENTA CONTABLE | E5: POLIZA | F5: DESCRIPCIÒN, MARCA, MODELO Y SERIE | G5: C.F.D.I. | H5: ESTADO FISICO | I5: DOCUMENTO QUE ACREDITA LA PROPIEDAD (C.F.D.I.) | J5: NOMBRE DEL RESPONSABLE | K5: UNIDAD ADMINISTRATIVA DEL RESGUARDANTE | L5: LUGAR FISICO DONDE SE LOCALIZA ESTE BIEN | M5: FECHA DE ADQUISICIÒN | N5: VALOR | O5: AUXILIARES
A6: 1 | B6: 0000001 5111-0000001 | C6: 0000001 5111-0000001 | D6: 1.2.4.1.1.1 | E6: D000000000 | F6: PORTA BANDERA COLOR MADERA | H6: REGULAR | I6: RECIBIDO DE LA ADMINISTRACIÒN 2021-2024 SIN NINGUN DOCUMENTO | J6: MTRA. BLANCA ESTELA JUAREZ BECERRA | K6: PRESIDENCIA | L6: PRESIDENCIA | M6: 14/10/2024 | N6: 1 | O6: 1
A7: 2 | B7: 0000002 5111-0000002 | C7: 0000002 5111-0000002 | D7: 1.2.4.1.1.1 | E7: D000000000 | F7: 9 SILLAS MEDALLON COLOR NEGRO | H7: REGULAR | I7: RECIBIDO DE LA ADMINISTRACIÒN 2021-2024 SIN NINGUN DOCUMENTO | J7: LEOBARDO VAZQUEZ REYES | K7: ALMACEN | L7: PRESIDENCIA | M7: 15/02/2015 | N7: 609.92 | O7: 1059.92
A8: 3 | B8: 0000003 5111-0000003 | C8: 0000003 5111-0000003 | D8: 1.2.4.1.1.1 | E8: D000000000 | F8: LIBRERO DE MADERA SIN MARCA 7 CUBICULOS COLOR MADERA | H8: REGULAR | I8: RECIBIDO DE LA ADMINISTRACIÒN 2021-2024 SIN NINGUN DOCUMENTO | J8: ARELI SANCHEZ VAZQUEZ | K8: REGISTRO CIVIL | L8: REGISTRO CIVIL | M8: 30/11/2011 | N8: 500 | O8: 750
A9: 4 | B9: 0000004 5111-0000004 | C9: 0000004 5111-0000004 | D9: 1.2.4.1.1.1 | E9: D000000000 | F9: ARCHIVERO 3 CAJONES COLOR NEGRO | H9: REGULAR | I9: RECIBIDO DE LA ADMINISTRACIÒN 2021-2024 SIN NINGUN DOCUMENTO | J9: MONTSERRAT CARRANZA MENDOZA | K9: SECRETARIA DEL AYUNTAMIENTO | L9: SECRETARIA DEL AYUNTAMIENTO | M9: 13/07/2012 | N9: 549.39 | O9: 824.09
A10: 5 | B10: 0000005 5111-0000005 | C10: 0000005 5111-0000005 | D10: 1.2.4.1.1.1 | E10: D000000000 | F10: ESCRITORIO CON 2 CAJONES DE MADERA COLOR CAOBA | H10: REGULAR | I10: RECIBIDO DE LA ADMINISTRACIÒN 2021-2024 SIN NINGUN DOCUMENTO | J10: JESSICA ALVAREZ HERNANDEZ | K10: CONTABILIDAD | L10: PRESIDENCIA | M10: 13/07/2012 | N10: 524.42 | O10: 786.63
A11: 6 | B11: 0000006 5111-0000006 | C11: 0000006 5111-0000006 | D11: 1.2.4.1.1.1 | E11: D000000000 | F11: LIBRERO DE MADERA ESTABAL 15 BUBICULOS COLOR MADERA | H11: REGULAR | I11: RECIBIDO DE LA ADMINISTRACIÒN 2021-2024 SIN NINGUN DOCUMENTO | J11: ARELI SANCHEZ VAZQUEZ | K11: REGISTRO CIVIL | L11: Registro Civil | M11: 29/06/2012 | N11: 566.69 | O11: 850.03
A12: 7 | B12: 0000007 5111-0000007 | C12: 0000007 5111-0000007 | D12: 1.2.4.1.1.1 | E12: D000000000 | F12: LIBRERO EMANUEL COLOR MADERA | H12: REGULAR | I12: RECIBIDO DE LA ADMINISTRACIÒN 2021-2024 SIN NINGUN DOCUMENTO | J12: ARELI SANCHEZ VAZQUEZ | K12: REGISTRO CIVIL | L12: Registro civil | M12: 14/10/2024 | N12: 356.71 | O12: 535.07
A13: 8 | B13: 0000008 5111-0000008 | C13: 0000008 5111-0000008 | D13: 1.2.4.1.1.1 | E13: D000000000 | F13: REGULADOR DE VOLTAJE KOBLENZ COLOR NEGRO | H13: REGULAR | I13: RECIBIDO DE LA ADMINISTRACIÒN 2021-2024 SIN NINGUN DOCUMENTO | J13: ARELI SANCHEZ VAZQUEZ | K13: REGISTRO CIVIL | L13: Registro civil | M13: 29/06/2012 | N13: 218 | O13: 327
A14: 9 | B14: 0000009 5111-0000009 | C14: 0000009 5111-0000009 | D14: 1.2.4.1.1.1 | E14: D000000000 | F14: TELEFONO ALAMBRICO | H14: MALO | I14: RECIBIDO DE LA ADMINISTRACIÒN 2021-2024 SIN NINGUN DOCUMENTO | J14: ANDRES PEREZ VAZQUEZ | K14: CONTRALORIA | L14: COMANDANCIA MUNICIPAL | M14: 12/06/2012 | N14: 66 | O14: 99 | Q14: 2215613885
A15: 10 | B15: 0000010 5111-0000010 | C15: 0000010 5111-0000010 | D15: 1.2.4.1.1.1 | E15: D000000000 | F15: SILLA DE PIEL COLOR COLOR NEGRO | H15: REGULAR | I15: RECIBIDO DE LA ADMINISTRACIÒN 2021-2024 SIN NINGUN DOCUMENTO | J15: YEYMY HERNANDEZ VAZQUEZ | K15: TRANSPARENCIA | L15: AREA DE TRANSPARENCIA | M15: 28/06/2012 | N15: 379.86 | O15: 569.79
A16: 11 | B16: 0000011 5111-0000011 2018/EO/12 | C16: 0000010 5111-0000011 | D16: 1.2.4.1.1.1 | E16: D000000000 | F16: SILLA EJECUTIVA COLOR NEGRO | H16: REGULAR | I16: RECIBIDO DE LA ADMINISTRACIÒN 2021-2024 C.F.D.I. 157 UUID, MARIA LUCERO BARRERA HERNANDEZ | J16: MARIA DEL ROSARIO CARMONA ZARAGOZA | K16: SISTEMA DIF MUNICIPAL | L16: SISTEMA DIF MUNICIPAL | M16: 13/03/2021 | N16: 321.86 | O16: 482.79
A17: 12 | B17: 0000012 5111-0000012 2018/EO/014 | C17: 0000010 5111-0000012 | D17: 1.2.4.1.1.1 | E17: D000000000 | F17: ESCRITORIO DE MADERA COLOR CAOBA | H17: REGULAR | I17: RECIBIDO DE LA ADMINISTRACIÒN 2021-2024 SIN NINGUN DOCUMENTO | J17: YEYMY HERNANDEZ VAZQUEZ | K17: TRANSPARENCIA | L17: AREA DE TRANSPARENCIA | M17: 13/03/2014 | N17: 524.86 | O17: 787.29
A18: 13 | B18: 0000013 5111-0000013 2020/EO/001 | C18: 0000010 5111-0000013 | D18: 1.2.4.1.1.1 | E18: D000000000 | F18: MODULO EJECUTIVO CONSISTENTE EN MESA ADUELADA BASE DE 220X100 COLOR NEGRO | G18: CFDI D334545 YESENIA DOPORTO FLORES | H18: REGULAR | I18: RECIBIDO DE LA ADMINISTRACIÒN 2021-2024 C.F.D.I. D334545 YESENIA DOPORTO FLORES | J18: VIRGINIA FRANCISCO GUZMAN | K18: TESORERÌA MUNICIPAL | L18: TESORERÌA MUNICIPAL | M18: 13/03/2014 | N18: 36540 | O18: 40600
A19: 14 | B19: 0000014 5111-0000014 2020EO/002 | C19: 0000010 5111-0000014 | D19: 1.2.4.1.1.1 | E19: D000000000 | F19: ESCRITORIO DE METAL Y MADERA CON 2 CAJONES, COLOR CAOBA | G19: F/BF49 MARCO ANTONIO MARQUEZ MANZANO | H19: REGULAR | I19: RECIBIDO DE LA ADMINISTRACIÒN 2021-2024 C.F.D.I. BF49 MARCO ANTONIO MARQUEZ MANZANO | J19: VERONICA VAZQUEZ CARPIO | K19: RECAUDACION IMPUESTO PREDIAL | L19: IMPUESTO PREDIAL | M19: 25/03/2020 | N19: 0
A20: 15 | B20: 0000015 5111-0000015 2021/EO/002 | C20: 0000015 5111-0000015 | D20: 1.2.4.1.1.1 | E20: D000000000 | F20: 48 SILLAS DE PLASTICO COLOR BLANCAS | G20: BF49 HORACIO DE JESUS ZENDEJAS RAMIREZ | H20: REGULAR | I20: RECIBIDO DE LA ADMINISTRACIÒN 2021-2024 C.F.D.I. BF49 HORACIO DE JESUS ZENDEJAS RAMIREZ | J20: LEOBARDO VAZQUEZ REYES | K20: ALMACEN | L20: Cubicoulo Contraloria | M20: 06/10/2020 | N20: 6625.92 | O20: 6681.6
A21: 16 | B21: 0000040 5111-0000040 | C21: 0000040 5111-0000040 | D21: 1.2.4.1.1.1 | E21: D000000000 | F21: 2 SILLAS VISTA COLOR NEGRA | G21: CFDI 157 MARIA LUCERO BARRERA HERNANDEZ | H21: REGULAR | I21: RECIBIDO DE LA ADMINISTRACIÒN 2021-2024 C.F.D.I. 157, MARIA LUCERO BARRERA HERNANDEZ | J21: MTRA. BLANCA ESTELA JUAREZ BECERRA | K21: PRESIDENCIA | L21: PRESIDENCIA | M21: 01/12/2021 | N21: 1670.4 | O21: 1856
A22: 17 | B22: 0000041 5111-0000041 | C22: 0000041 5111-0000041 | D22: 1.2.4.1.1.1 | E22: D000000000 | F22: ADQUISICIONES EJERCICIO 2020 | I22: RECIBIDO DE LA ADMINISTRACIÒN 2021-2024 SIN NINGUN DOCUMENTO | L22: Cubicoulo Contraloria | M22: 14/10/2024 | N22: 30276 | O22: 33640
A23: 18 | B23: 0000042 5111-0000042 | C23: 0000042 5111-0000042 | D23: 1.2.4.1.1.1 | E23: D000000000 | F23: IMPRESORA MULTIFUNCIONAL BROTHER COLOR NEGRO DCP-T720DWC | G23: F/2021 CLEOFAS VAZQUEZ VAZQUEZ | H23: REGULAR | I23: RECIBIDO DE LA ADMINISTRACIÒN 2021-2024 C.F.D.I. 2021 CLEOFAS VAZQUEZ VAZQUEZ | J23: ALEJANDRA GUZMAN CRUZ | K23: SISTEMA DIF MUNICIPAL | L23: SISTEMA DIF MUNICIPAL | M23: 14/10/2024 | N23: 8339.92 | O23: 8410
A24: 19 | B24: 0000060 5111-0000060 | C24: 0000060 5111-0000060 | D24: 1.2.4.1.1.1 | E24: D000000000 | F24: MULTIFUCIONAL BROTHER N/SERIE U65160L2H487008 COLOR NEGRO | G24: C.F.D.I. 1022 FOLIO UUID, PEPELERIA Y TACNOLOGIA | H24: REGULAR | I24: RECIBIDO DE LA ADMINISTRACIÒN 2021-2024 C.F.D.I. 1022 FOLIO UUID, PEPELERIA Y TACNOLOGIA DEVO | J24: EDWIN LECONA TREJO | K24: OBRAS PÙBLICAS | L24: AREA OBRAS PUBLICAS | M24: 31/12/2021 | N24: 24049.62 | O24: 24049.62
A25: 20 | B25: 0000061 5111-0000061 | C25: 0000061 5111-0000061 | D25: 1.2.4.1.1.1 | E25: D000000000 | F25: MULTIFUNCIONAL EPSON N/SERIE X8GP046251 COLOR NEGRO | G25: C.F.D.I. 1022 FOLIO UUID, PEPELERIA Y TACNOLOGIA | H25: REGULAR | I25: RECIBIDO DE LA ADMINISTRACIÒN 2021-2024 C.F.D.I. 1022 FOLIO UUID, PEPELERIA Y TACNOLOGIA DEVO | J25: YEYMY HERNANDEZ VAZQUEZ | K25: TRANSPARENCIA | L25: AREA DE TRANSPARENCIA | M25: 06/05/2023 | N25: 15658.62 | O25: 15658.62
A26: 21 | B26: 0000062 5111-0000062 | C26: 0000062 5111-0000062 | D26: 1.2.4.1.1.1 | E26: D000000000 | F26: ESCANER HP COLOR BLANCO | G26: C.F.D.I. 1022 FOLIO UUID, PEPELERIA Y TACNOLOGIA DEVO | H26: MALO | I26: RECIBIDO DE LA ADMINISTRACIÒN 2021-2024 C.F.D.I. 1022 FOLIO UUID, PEPELERIA Y TACNOLOGIA DEVO | J26: ANDRES PEREZ VAZQUEZ | K26: CONTRALORIA | L26: CONTRALORIA MUNICIPAL | M26: 09/05/2023 | N26: 20992.45 | O26: 20992.45
A27: 22 | B27: 0000051 5121-0000051 | C27: 0000051 5111-0000051 | D27: 1.2.4.1.2.1 | E27: D000000000 | F27: 2 MESAS DUNA PLEGABLE COLOR BLANCO | G27: C.F.D.I. 4920, CRISTAL RAMIREZ CARCAMO | H27: REGULAR | I27: RECIBIDO DE LA ADMINISTRACIÒN 2021-2024 C.F.D.I. 4920, CRISTAL RAMIREZ CARCAMO | J27: LEOBARDO VAZQUEZ REYES | K27: ALMACEN | L27: ALMACEN | M27: 04/02/2022 | N27: -37512.64 | O27: 5250
A28: 23 | B28: 0000054 5121-0000054 | C28: 0000054 5111-0000054 | D28: 1.2.4.1.2.1 | E28: D000000000 | F28: JUEGO DE CONSULTORIO COLOR NARANJA | G28: C.F.D.I. FQ 4698, GABRIEL RAYMUNDO MARTINEZ ARANDO | H28: REGULAR | I28: RECIBIDO DE LA ADMINISTRACIÒN 2021-2024 C.F.D.I. FQ 4698, GABRIEL RAYMUNDO MARTINEZ ARANDO | J28: NATALIA VAZQUEZ PEREZ | K28: DISPENSARIO MEDICO | L28: DISPENSARIO MEDICO | M28: 04/07/2022 | N28: 6758.82 | O28: 13100
A29: 24 | B29: 0000016 5151-0000016 2018/EC/001 | C29: 0000016 5111-0000016 | D29: 1.2.4.1.3.1 | E29: D000000000 | F29: EQUIPO DE COMPUTO HP N/SERIE CNC638087F COLOR NEGRO | H29: REGULAR | I29: RECIBIDO DE LA ADMINISTRACIÒN 2021-2024 SIN NINGUN DOCUMENTO | J29: JORGE HERRERO CALLEJA | K29: RECLUTAMIENTO MUNICIPAL | L29: RECLUTAMIENTO MUNICIPAL | M29: 28/02/2011 | N29: 1 | O29: 9750
A30: 25 | B30: 0000017 5151-0000017 2018/EC/002 | C30: 0000017 5111-0000017 | D30: 1.2.4.1.3.1 | E30: D000000000 | F30: IMPRESORA LASER JET COLOR NEGRO | H30: MALO | I30: RECIBIDO DE LA ADMINISTRACIÒN 2021-2024 SIN NINGUN DOCUMENTO | J30: ANDRES PEREZ VAZQUEZ | K30: CONTRALORIA | L30: CONTRALORIA MUNICIPAL | M30: 20/03/2011 | N30: 1 | O30: 8400
A31: 26 | B31: 0000018 5151-0000018 2018/EC/003 | C31: 0000018 5111-0000018 | D31: 1.2.4.1.3.1 | E31: D000000000 | F31: COMPUTADORA AIO PC 8CC8490LM2 COLOR NEGRO | H31: REGULAR | I31: RECIBIDO DE LA ADMINISTRACIÒN 2021-2024 SIN NINGUN DOCUMENTO | J31: JOSE ORLANDO ZARAGOZA BECERRA | K31: DESARROLLO RURAL | L31: DIRECCION DESARROLLO RURAL | M31: 15/05/2015 | N31: 0
A32: 27 | B32: 0000019 5151-0000019 2018/EC/004 | C32: 0000019 5111-0000019 | D32: 1.2.4.1.3.1 | E32: D000000000 | F32: MULTIFUNCIONAL EPSON IMPRESORA MULTICOLOR X4ER022107 | H32: MALO | I32: RECIBIDO DE LA ADMINISTRACIÒN 2021-2024 SIN NINGUN DOCUMENTO | J32: ANDRES PEREZ VAZQUEZ | K32: CONTRALORIA | L32: CONTRALORIA MUNICIPAL | M32: 19/12/2015 | N32: 1 | O32: 3890
A33: 28 | B33: 0000020 5111-0000020 2018/EC/005 | C33: 0000020 5111-0000020 | D33: 1.2.4.1.3.1 | E33: D000000000 | F33: MULTIFUNCIONAL LASER HP N/SERIE CNJ8G1Q5HB COLOR NEGRO | H33: REGULAR | I33: RECIBIDO DE LA ADMINISTRACIÒN 2021-2024 SIN NINGUN DOCUMENTO | J33: ARELI SANCHEZ VAZQUEZ | K33: REGISTRO CIVIL | L33: Registro civil | M33: 19/12/2015 | N33: 1 | O33: 3690
A34: 29 | B34: 0000021 5151-0000021 2018/EC/006 | C34: 0000021 5151-0000021 | D34: 1.2.4.1.3.1 | E34: D000000000 | F34: COMPUTADORA AIO PC 8CC82516X5 COLOR NEGRO | H34: MALO | I34: RECIBIDO DE LA ADMINISTRACIÒN 2021-2024 SIN NINGUN DOCUMENTO | J34: ANDRES PEREZ VAZQUEZ | K34: CONTRALORIA | L34: CONTRALORIA MUNICIPAL | M34: 13/09/2016 | N34: 1 | O34: 9990
A35: 30 | B35: 0000022 5151-0000022 2018/EC/007 | C35: 0000022 5151-0000022 | D35: 1.2.4.1.3.1 | E35: D000000000 | F35: COMPUTADORA HP DESKTOP N/SERIE 4CE4340KS5 COLOR NEGRO | H35: REGULAR | I35: RECIBIDO DE LA ADMINISTRACIÒN 2021-2024 SIN NINGUN DOCUMENTO | J35: RAFAEL GOMEZ DE LA CRUZ | K35: SEGURIDAD PÙBLICA | L35: SEGURIDAD PÙBLICA | M35: 14/09/2018 | N35: 1 | O35: 8317
A36: 31 | B36: 0000023 5111-0000023 2019/EC/004 | C36: 0000023 5111-0000023 | D36: 1.2.4.1.3.1 | E36: D000000000 | F36: DESKTOP AIO HP COLOR NEGRO | G36: F/15473 OFFICE DEPOT DE MEXICO S.A. DE CV | H36: MALO | I36: RECIBIDO DE LA ADMINISTRACIÒN 2021-2024 SIN NINGUN DOCUMENTO | J36: ANDRES PEREZ VAZQUEZ | K36: CONTRALORIA | L36: CONTRALORIA MUNICIPAL | M36: 14/10/2024 | N36: 2699.55 | O36: 8998.5
A37: 32 | B37: 0000024 5111-0000024 2019/EC/005 | C37: 0000024 5111-0000024 | D37: 1.2.4.1.3.1 | E37: D000000000 | F37: COMPUTADORA ALL IN ONE LENOVO YJ00TB9A COLOR BLANCO | G37: 15473 BEST BUY STORES S DE RL DE CV | H37: REGULAR | I37: RECIBIDO DE LA ADMINISTRACIÒN 2021-2024 C.F.D.I. 15473 BEST BUY STORES S DE RL DE CV | J37: VERONICA VAZQUEZ CARPIO | K37: RECAUDACION IMPUESTO PREDIAL | L37: TESORERIA MUNIPAL | M37: 14/10/2024 | N37: 2699.7 | O37: 8999
A38: 33 | B38: 0000025 5111-0000025 2020/EC/001 | C38: 0000025 5111-0000025 | D38: 1.2.4.1.3.1 | E38: D000000000 | F38: MULTIFUCIONAL LASSER JET PRO COLOR BLANCO | G38: HN21548 BEST BUY STORES S DE RL DE CV | H38: MALO | I38: RECIBIDO DE LA ADMINISTRACIÒN 2021-2024 SIN NINGUN DOCUMENTO | J38: ANDRES PEREZ VAZQUEZ | K38: CONTRALORIA | L38: CONTRALORIA MUNICIPAL | M38: 14/10/2024 | N38: 5969.4 | O38: 9949
A39: 34 | B39: 0000026 5111-0000026 2020/EC/002 | C39: 0000026 5111-0000026 | D39: 1.2.4.1.3.1 | E39: D000000000 | F39: COMPUTADORA DE ESCRITORIO DELL MODELO OPTIPLEX 7 LED 21.5 PLD E2216H SERIE 6605838002 COLOLR NEGRO | G39: F/A897 RAFAEL MONROY JIMENEZ | H39: REGULAR | I39: RECIBIDO DE LA ADMINISTRACIÒN 2021-2024 C.F.D.I. A897 RAFAEL MONROY JIMENEZ | J39: YEYMY HERNANDEZ VAZQUEZ | K39: TRANSPARENCIA | L39: AREA DE TRANSPARENCIA | M39: 14/10/2024 | N39: 8400 | O39: 14000
A40: 35 | B40: 0000027 5111-0000027 2021/EC/002 | C40: 0000027 5111-0000027 | D40: 1.2.4.1.3.1 | E40: D000000000 | F40: ESCANER HP COLOR BLANCO L2747-64001 | G40: F/B -8057 COMPUTADORES Y PORTATILES MARX SA DE CV | H40: REGULAR | I40: RECIBIDO DE LA ADMINISTRACIÒN 2021-2024 C.F.D.I. B -8057 COMPUTADORAS Y PORTATILES MARX SA DE CV | J40: ANDRES PEREZ VAZQUEZ | K40: CONTRALORIA MUNICIPAL | L40: CONTRALORIA MUNICIPAL | M40: 14/10/2024 | N40: 7750 | O40: 9300
A41: 36 | B41: 0000043 5111-0000043 | C41: 0000043 5111-0000043 | D41: 1.2.4.1.3.1 | E41: D000000000 | F41: ADQUISICIONES EJERCICIO 2019 | G41: F/157 MARIA LUCERO BARRERA HERNANDEZ | I41: RECIBIDO DE LA ADMINISTRACIÒN 2021-2024 SIN NINGUN DOCUMENTO | L41: CONTRALORIA MUNICIPAL | M41: 14/10/2024 | N41: 8700 | O41: 29000
...

Sheet Hoja1
A1: ÀREA DE COBRO DE IMPUESTO PREDIAL
A3: SOLICITUD DE PAPELERIA
B6: PIEZAS | C6: CONCEPTO
B7: 1 | C7: cuter / tijera
B8: 6 | C8: lapiz adhesivo (pegamento)
B9: 2 | C9: lapiceros color azul punto fino
B10: 2 | C10: lapiceros color negro punto fino
B11: 2 | C11: lapiz no 2
B12: 1 | C12: libreta profesional
B13: 1 | C13: engrapadora mediana
B14: 1 | C14: perforadora
B15: 1 | C15: cinta adhesiva transparente
B16: 1 | C16: marcatextos

Sheet ANEXO 1
B7: CLAVE: | F7: 24/03
B8: ENTIDAD FISCALIZADA: | F8: MUNICIPIO DE AMIXTLAN, PUEBLA
B10: INVENTARIO DE BIENES MUEBLES AL 30 DE JUNIO DEL 2025
B12: BIENES MUEBLES
B13: Número de inventario (Código) | C13: Descripción, Marca, Modelo y Serie | D13: Subcuenta | E13: Responsable del Resguardo y Área Administrativa | F13: Documento que acredita la Propiedad (CFDI) | G13: Motivo de alta | H13: Motivo de baja | I13: Documento que acredita la baja | J13: Fuente de financiamiento | K13: Importe | L13: Fecha de Adquisición | M13: % Depreciación Bien Mueble | N13: % Depreciación del ejercicio | O13: % Depreciación Acumulada al final del ejercicio | P13: Monto Depreciación del ejercicio | Q13: Monto Depreciación Acumulada al final del ejercicio | R13: Valor Neto en libros al 31 de diciembre de 2024
B15: EQUIPO DE OFICINA
B16: =+'INVENTARIO 24-27 '!B6 -> 0000001 5111-0000001 | C16: =+'INVENTARIO 24-27 '!F6 -> PORTA BANDERA COLOR MADERA | D16: =+'INVENTARIO 24-27 '!D6 -> 1.2.4.1.1.1 | E16: =+'INVENTARIO 24-27 '!J6 -> MTRA. BLANCA ESTELA JUAREZ BECERRA | F16: =+'INVENTARIO 24-27 '!I6 -> RECIBIDO DE LA ADMINISTRACIÒN 2021-2024 SIN NINGUN DOCUMENTO | G16: RECIBIDO EN ENTREGA RECEPCION | H16: N/A | I16: N/A | J16: 5. Recursos Federales | K16: =+'INVENTARIO 24-27 '!N6 -> 1 | L16: =+'INVENTARIO 24-27 '!M6 -> 14/10/2024 | M16: 0 | N16: 0 | O16: =+N16 -> 0 | P16: 0 | Q16: =+P16 -> 0 | R16: =+K16-Q16 -> 1
B17: =+'INVENTARIO 24-27 '!B7 -> 0000002 5111-0000002 | C17: =+'INVENTARIO 24-27 '!F7 -> 9 SILLAS MEDALLON COLOR NEGRO | D17: =+'INVENTARIO 24-27 '!D7 -> 1.2.4.1.1.1 | E17: =+'INVENTARIO 24-27 '!J7 -> LEOBARDO VAZQUEZ REYES | F17: =+'INVENTARIO 24-27 '!I7 -> RECIBIDO DE LA ADMINISTRACIÒN 2021-2024 SIN NINGUN DOCUMENTO | G17: RECIBIDO EN ENTREGA RECEPCION | H17: N/A | I17: N/A | J17: 5. Recursos Federales | K17: =+'INVENTARIO 24-27 '!N7 -> 609.92 | L17: =+'INVENTARIO 24-27 '!M7 -> 15/02/2015 | M17: 0 | N17: 0 | O17: =+N17 -> 0 | P17: 0 | Q17: =+P17 -> 0 | R17: =+K17-Q17 -> 609.92
B18: =+'INVENTARIO 24-27 '!B8 -> 0000003 5111-0000003 | C18: =+'INVENTARIO 24-27 '!F8 -> LIBRERO DE MADERA SIN MARCA 7 CUBICULOS COLOR MADERA | D18: =+'INVENTARIO 24-27 '!D8 -> 1.2.4.1.1.1 | E18: =+'INVENTARIO 24-27 '!J8 -> ARELI SANCHEZ VAZQUEZ | F18: =+'INVENTARIO 24-27 '!I8 -> RECIBIDO DE LA ADMINISTRACIÒN 2021-2024 SIN NINGUN DOCUMENTO | G18: RECIBIDO EN ENTREGA RECEPCION | H18: N/A | I18: N/A | J18: 5. Recursos Federales | K18: =+'INVENTARIO 24-27 '!N8 -> 500 | L18: =+'INVENTARIO 24-27 '!M8 -> 30/11/2011 | M18: 0 | N18: 0 | O18: 0 | P18: 0 | Q18: 0 | R18: =+K18-Q18 -> 500
B19: =+'INVENTARIO 24-27 '!B9 -> 0000004 5111-0000004 | C19: =+'INVENTARIO 24-27 '!F9 -> ARCHIVERO 3 CAJONES COLOR NEGRO | D19: =+'INVENTARIO 24-27 '!D9 -> 1.2.4.1.1.1 | E19: =+'INVENTARIO 24-27 '!J9 -> MONTSERRAT CARRANZA MENDOZA | F19: =+'INVENTARIO 24-27 '!I9 -> RECIBIDO DE LA ADMINISTRACIÒN 2021-2024 SIN NINGUN DOCUMENTO | G19: RECIBIDO EN ENTREGA RECEPCION | H19: N/A | I19: N/A | J19: 5. Recursos Federales | K19: =+'INVENTARIO 24-27 '!N9 -> 549.39 | L19: =+'INVENTARIO 24-27 '!M9 -> 13/07/2012 | M19: 0 | N19: 0 | O19: 0 | P19: 0 | Q19: 0 | R19: =+K19-Q19 -> 549.39
B20: =+'INVENTARIO 24-27 '!B10 -> 0000005 5111-0000005 | C20: =+'INVENTARIO 24-27 '!F10 -> ESCRITORIO CON 2 CAJONES DE MADERA COLOR CAOBA | D20: =+'INVENTARIO 24-27 '!D10 -> 1.2.4.1.1.1 | E20: =+'INVENTARIO 24-27 '!J10 -> JESSICA ALVAREZ HERNANDEZ | F20: =+'INVENTARIO 24-27 '!I10 -> RECIBIDO DE LA ADMINISTRACIÒN 2021-2024 SIN NINGUN DOCUMENTO | G20: RECIBIDO EN ENTREGA RECEPCION | H20: N/A | I20: N/A | J20: 5. Recursos Federales | K20: =+'INVENTARIO 24-27 '!N10 -> 524.42 | L20: =+'INVENTARIO 24-27 '!M10 -> 13/07/2012 | M20: 0 | N20: 0 | O20: 0 | P20: 0 | Q20: 0 | R20: =+K20-Q20 -> 524.42
B21: =+'INVENTARIO 24-27 '!B11 -> 0000006 5111-0000006 | C21: =+'INVENTARIO 24-27 '!F11 -> LIBRERO DE MADERA ESTABAL 15 BUBICULOS COLOR MADERA | D21: =+'INVENTARIO 24-27 '!D11 -> 1.2.4.1.1.1 | E21: =+'INVENTARIO 24-27 '!J11 -> ARELI SANCHEZ VAZQUEZ | F21: =+'INVENTARIO 24-27 '!I11 -> RECIBIDO DE LA ADMINISTRACIÒN 2021-2024 SIN NINGUN DOCUMENTO | G21: RECIBIDO EN ENTREGA RECEPCION | H21: N/A | I21: N/A | J21: 5. Recursos Federales | K21: =+'INVENTARIO 24-27 '!N11 -> 566.69 | L21: =+'INVENTARIO 24-27 '!M11 -> 29/06/2012 | M21: 0 | N21: 0 | O21: 0 | P21: 0 | Q21: 0 | R21: =+K21-Q21 -> 566.69
B22: =+'INVENTARIO 24-27 '!B12 -> 0000007 5111-0000007 | C22: =+'INVENTARIO 24-27 '!F12 -> LIBRERO EMANUEL COLOR MADERA | D22: =+'INVENTARIO 24-27 '!D12 -> 1.2.4.1.1.1 | E22: =+'INVENTARIO 24-27 '!J12 -> ARELI SANCHEZ VAZQUEZ | F22: =+'INVENTARIO 24-27 '!I12 -> RECIBIDO DE LA ADMINISTRACIÒN 2021-2024 SIN NINGUN DOCUMENTO | G22: RECIBIDO EN ENTREGA RECEPCION | H22: N/A | I22: N/A | J22: 5. Recursos Federales | K22: =+'INVENTARIO 24-27 '!N12 -> 356.71 | L22: =+'INVENTARIO 24-27 '!M12 -> 14/10/2024 | M22: 0 | N22: 0 | O22: 0 | P22: 0 | Q22: 0 | R22: =+K22-Q22 -> 356.71
B23: =+'INVENTARIO 24-27 '!B13 -> 0000008 5111-0000008 | C23: =+'INVENTARIO 24-27 '!F13 -> REGULADOR DE VOLTAJE KOBLENZ COLOR NEGRO | D23: =+'INVENTARIO 24-27 '!D13 -> 1.2.4.1.1.1 | E23: =+'INVENTARIO 24-27 '!J13 -> ARELI SANCHEZ VAZQUEZ | F23: =+'INVENTARIO 24-27 '!I13 -> RECIBIDO DE LA ADMINISTRACIÒN 2021-2024 SIN NINGUN DOCUMENTO | G23: RECIBIDO EN ENTREGA RECEPCION | H23: N/A | I23: N/A | J23: 5. Recursos Federales | K23: =+'INVENTARIO 24-27 '!N13 -> 218 | L23: =+'INVENTARIO 24-27 '!M13 -> 29/06/2012 | M23: 0 | N23: 0 | O23: 0 | P23: 0 | Q23: 0 | R23: =+K23-Q23 -> 218
B24: =+'INVENTARIO 24-27 '!B14 -> 0000009 5111-0000009 | C24: =+'INVENTARIO 24-27 '!F14 -> TELEFONO ALAMBRICO | D24: =+'INVENTARIO 24-27 '!D14 -> 1.2.4.1.1.1 | E24: =+'INVENTARIO 24-27 '!J14 -> ANDRES PEREZ VAZQUEZ | F24: =+'INVENTARIO 24-27 '!I14 -> RECIBIDO DE LA ADMINISTRACIÒN 2021-2024 SIN NINGUN DOCUMENTO | G24: RECIBIDO EN ENTREGA RECEPCION | H24: N/A | I24: N/A | J24: 5. Recursos Federales | K24: =+'INVENTARIO 24-27 '!N14 -> 66 | L24: =+'INVENTARIO 24-27 '!M14 -> 12/06/2012 | M24: 0 | N24: 0 | O24: 0 | P24: 0 | Q24: 0 | R24: =+K24-Q24 -> 66
B25: =+'INVENTARIO 24-27 '!B15 -> 0000010 5111-0000010 | C25: =+'INVENTARIO 24-27 '!F15 -> SILLA DE PIEL COLOR COLOR NEGRO | D25: =+'INVENTARIO 24-27 '!D15 -> 1.2.4.1.1.1 | E25: =+'INVENTARIO 24-27 '!J15 -> YEYMY HERNANDEZ VAZQUEZ | F25: =+'INVENTARIO 24-27 '!I15 -> RECIBIDO DE LA ADMINISTRACIÒN 2021-2024 SIN NINGUN DOCUMENTO | G25: RECIBIDO EN ENTREGA RECEPCION | H25: N/A | I25: N/A | J25: 5. Recursos Federales | K25: =+'INVENTARIO 24-27 '!N15 -> 379.86 | L25: =+'INVENTARIO 24-27 '!M15 -> 28/06/2012 | M25: 0 | N25: 0 | O25: 0 | P25: 0 | Q25: 0 | R25: =+K25-Q25 -> 379.86
B26: =+'INVENTARIO 24-27 '!B16 -> 0000011 5111-0000011 2018/EO/12 | C26: =+'INVENTARIO 24-27 '!F16 -> SILLA EJECUTIVA COLOR NEGRO | D26: =+'INVENTARIO 24-27 '!D16 -> 1.2.4.1.1.1 | E26: =+'INVENTARIO 24-27 '!J16 -> MARIA DEL ROSARIO CARMONA ZARAGOZA | F26: =+F25 -> RECIBIDO DE LA ADMINISTRACIÒN 2021-2024 SIN NINGUN DOCUMENTO | G26: RECIBIDO EN ENTREGA RECEPCION | H26: N/A | I26: N/A | J26: 5. Recursos Federales | K26: =+'INVENTARIO 24-27 '!N16 -> 321.86 | L26: =+'INVENTARIO 24-27 '!M16 -> 13/03/2021 | M26: 0 | N26: 0 | O26: 0 | P26: 0 | Q26: 0 | R26: =+K26-Q26 -> 321.86
B27: =+'INVENTARIO 24-27 '!B17 -> 0000012 5111-0000012 2018/EO/014 | C27: =+'INVENTARIO 24-27 '!F17 -> ESCRITORIO DE MADERA COLOR CAOBA | D27: =+'INVENTARIO 24-27 '!D17 -> 1.2.4.1.1.1 | E27: =+'INVENTARIO 24-27 '!J17 -> YEYMY HERNANDEZ VAZQUEZ | F27: =+F26 -> RECIBIDO DE LA ADMINISTRACIÒN 2021-2024 SIN NINGUN DOCUMENTO | G27: RECIBIDO EN ENTREGA RECEPCION | H27: N/A | I27: N/A | J27: 5. Recursos Federales | K27: =+'INVENTARIO 24-27 '!N17 -> 524.86 | L27: =+'INVENTARIO 24-27 '!M17 -> 13/03/2014 | M27: 0 | N27: 0 | O27: 0 | P27: 0 | Q27: 0 | R27: =+K27-Q27 -> 524.86
B28: =+'INVENTARIO 24-27 '!B18 -> 0000013 5111-0000013 2020/EO/001 | C28: =+'INVENTARIO 24-27 '!F18 -> MODULO EJECUTIVO CONSISTENTE EN MESA ADUELADA BASE DE 220X100 COLOR NEGRO | D28: =+'INVENTARIO 24-27 '!D18 -> 1.2.4.1.1.1 | E28: =+'INVENTARIO 24-27 '!J18 -> VIRGINIA FRANCISCO GUZMAN | F28: =+'INVENTARIO 24-27 '!I17 -> RECIBIDO DE LA ADMINISTRACIÒN 2021-2024 SIN NINGUN DOCUMENTO | G28: RECIBIDO EN ENTREGA RECEPCION | H28: N/A | I28: N/A | J28: 5. Recursos Federales | K28: =+'INVENTARIO 24-27 '!N18 -> 36540 | L28: =+'INVENTARIO 24-27 '!M18 -> 13/03/2014 | M28: 0 | N28: 0 | O28: 0 | P28: 0 | Q28: 0 | R28: =+K28-Q28 -> 36540
B29: =+'INVENTARIO 24-27 '!B19 -> 0000014 5111-0000014 2020EO/002 | C29: =+'INVENTARIO 24-27 '!F19 -> ESCRITORIO DE METAL Y MADERA CON 2 CAJONES, COLOR CAOBA | D29: =+'INVENTARIO 24-27 '!D19 -> 1.2.4.1.1.1 | E29: =+'INVENTARIO 24-27 '!J19 -> VERONICA VAZQUEZ CARPIO | F29: =+F28 -> RECIBIDO DE LA ADMINISTRACIÒN 2021-2024 SIN NINGUN DOCUMENTO | G29: RECIBIDO EN ENTREGA RECEPCION | H29: N/A | I29: N/A | J29: 5. Recursos Federales | K29: =+'INVENTARIO 24-27 '!N19 -> 0 | L29: =+'INVENTARIO 24-27 '!M19 -> 25/03/2020 | M29: 0 | N29: 0 | O29: 0 | P29: 0 | Q29: 0 | R29: =+K29-Q29 -> 0
B30: =+'INVENTARIO 24-27 '!B20 -> 0000015 5111-0000015 2021/EO/002 | C30: =+'INVENTARIO 24-27 '!F20 -> 48 SILLAS DE PLASTICO COLOR BLANCAS | D30: =+'INVENTARIO 24-27 '!D20 -> 1.2.4.1.1.1 | E30: =+'INVENTARIO 24-27 '!J20 -> LEOBARDO VAZQUEZ REYES | F30: =+F29 -> RECIBIDO DE LA ADMINISTRACIÒN 2021-2024 SIN NINGUN DOCUMENTO | G30: RECIBIDO EN ENTREGA RECEPCION | H30: N/A | I30: N/A | J30: 5. Recursos Federales | K30: =+'INVENTARIO 24-27 '!N20 -> 6625.92 | L30: =+'INVENTARIO 24-27 '!M19 -> 25/03/2020 | M30: 0 | N30: 0 | O30: 0 | P30: 0 | Q30: 0 | R30: =+K30-Q30 -> 6625.92
B31: =+'INVENTARIO 24-27 '!B21 -> 0000040 5111-0000040 | C31: =+'INVENTARIO 24-27 '!F21 -> 2 SILLAS VISTA COLOR NEGRA | D31: =+'INVENTARIO 24-27 '!D21 -> 1.2.4.1.1.1 | E31: =+'INVENTARIO 24-27 '!J21 -> MTRA. BLANCA ESTELA JUAREZ BECERRA | F31: =+'INVENTARIO 24-27 '!I21 -> RECIBIDO DE LA ADMINISTRACIÒN 2021-2024 C.F.D.I. 157, MARIA LUCERO BARRERA HERNANDEZ | G31: RECIBIDO EN ENTREGA RECEPCION | H31: N/A | I31: N/A | J31: 5. Recursos Federales | K31: =+'INVENTARIO 24-27 '!N21 -> 1670.4 | L31: =+'INVENTARIO 24-27 '!M21 -> 01/12/2021 | M31: 0 | N31: 0 | O31: 0 | P31: 0 | Q31: 0 | R31: =+K31-Q31 -> 1670.4
B32: =+'INVENTARIO 24-27 '!B23 -> 0000042 5111-0000042 | C32: =+'INVENTARIO 24-27 '!F23 -> IMPRESORA MULTIFUNCIONAL BROTHER COLOR NEGRO DCP-T720DWC | D32: =+'INVENTARIO 24-27 '!D23 -> 1.2.4.1.1.1 | E32: =+'INVENTARIO 24-27 '!J23 -> ALEJANDRA GUZMAN CRUZ | F32: =+'INVENTARIO 24-27 '!I23 -> RECIBIDO DE LA ADMINISTRACIÒN 2021-2024 C.F.D.I. 2021 CLEOFAS VAZQUEZ VAZQUEZ | G32: RECIBIDO EN ENTREGA RECEPCION | H32: N/A | I32: N/A | J32: 5. Recursos Federales | K32: =+'INVENTARIO 24-27 '!N23 -> 8339.92 | L32: =+'INVENTARIO 24-27 '!M23 -> 14/10/2024 | M32: 0 | N32: 0 | O32: 0 | P32: 0 | Q32: 0 | R32: =+K32-Q32 -> 8339.92
B33: =+'INVENTARIO 24-27 '!B24 -> 0000060 5111-0000060 | C33: =+'INVENTARIO 24-27 '!F24 -> MULTIFUCIONAL BROTHER N/SERIE U65160L2H487008 COLOR NEGRO | D33: =+'INVENTARIO 24-27 '!D24 -> 1.2.4.1.1.1 | E33: =+'INVENTARIO 24-27 '!J24 -> EDWIN LECONA TREJO | F33: =+'INVENTARIO 24-27 '!I24 -> RECIBIDO DE LA ADMINISTRACIÒN 2021-2024 C.F.D.I. 1022 FOLIO UUID, PEPELERIA Y TACNOLOGIA DEVO | G33: RECIBIDO EN ENTREGA RECEPCION | H33: N/A | I33: N/A | J33: 5. Recursos Federales | K33: =+'INVENTARIO 24-27 '!N24 -> 24049.62 | L33: =+'INVENTARIO 24-27 '!M24 -> 31/12/2021 | M33: 0 | N33: 0 | O33: 0 | P33: 0 | Q33: 0 | R33: =+K33-Q33 -> 24049.62
B34: =+'INVENTARIO 24-27 '!B25 -> 0000061 5111-0000061 | C34: =+'INVENTARIO 24-27 '!F25 -> MULTIFUNCIONAL EPSON N/SERIE X8GP046251 COLOR NEGRO | D34: =+'INVENTARIO 24-27 '!D25 -> 1.2.4.1.1.1 | E34: =+'INVENTARIO 24-27 '!J25 -> YEYMY HERNANDEZ VAZQUEZ | F34: =+'INVENTARIO 24-27 '!I25 -> RECIBIDO DE LA ADMINISTRACIÒN 2021-2024 C.F.D.I. 1022 FOLIO UUID, PEPELERIA Y TACNOLOGIA DEVO | G34: RECIBIDO EN ENTREGA RECEPCION | H34: N/A | I34: N/A | J34: 5. Recursos Federales | K34: =+'INVENTARIO 24-27 '!N25 -> 15658.62 | L34: =+'INVENTARIO 24-27 '!M25 -> 06/05/2023 | M34: 0 | N34: 0 | O34: 0 | P34: 0 | Q34: 0 | R34: =+K34-Q34 -> 15658.62
B35: =+'INVENTARIO 24-27 '!B26 -> 0000062 5111-0000062 | C35: =+'INVENTARIO 24-27 '!F26 -> ESCANER HP COLOR BLANCO | D35: =+'INVENTARIO 24-27 '!D26 -> 1.2.4.1.1.1 | E35: =+'INVENTARIO 24-27 '!J26 -> ANDRES PEREZ VAZQUEZ | F35: =+'INVENTARIO 24-27 '!I26 -> RECIBIDO DE LA ADMINISTRACIÒN 2021-2024 C.F.D.I. 1022 FOLIO UUID, PEPELERIA Y TACNOLOGIA DEVO | G35: RECIBIDO EN ENTREGA RECEPCION | H35: N/A | I35: N/A | J35: 5. Recursos Federales | K35: =+'INVENTARIO 24-27 '!N26 -> 20992.45 | L35: =+'INVENTARIO 24-27 '!M26 -> 09/05/2023 | M35: 0 | N35: 0 | O35: 0 | P35: 0 | Q35: 0 | R35: =+K35-Q35 -> 20992.45
B36: 0000068 5111-0000068 2018/EO/16 | C36: FOTOCOPIADORA TODO EN UNO | D36: 1.2.4.1.1.1 | E36: ANDRÉS PÉREZ VÁZQUEZ | F36: ADMINISTRACIÓN 2021-2024 C.F.D.I.1022 FOLIO UUID, PAPELERÍA Y TECNOLOGÍA | G36: RECIBIDO EN ENTREGA RECEPCIÓN | H36: N/A | I36: N/A | J36: 5. Recursos Federales | K36: 33783.66 | L36: 41871 | M36: 0 | N36: 0 | O36: 0 | P36: 0 | Q36: 0 | R36: =+K36-Q36 -> 33783.66
B37: SUBTOTAL EQUIPO DE OFICINA | K37: =SUM(K16:K36) -> 152279.3 | L37: 45838 | M37: =SUM(M16:M36) -> 0 | N37: =SUM(N16:N36) -> 0 | O37: =SUM(O16:O36) -> 0 | P37: =SUM(P16:P36) -> 0 | Q37: =SUM(Q16:Q36) -> 0 | R37: =SUM(R16:R36) -> 152279.3
B38: MUEBLES, EXCEPTO DE OFICINA Y ESTANTERIA
B39: =+'INVENTARIO 24-27 '!B27 -> 0000051 5121-0000051 | C39: =+'INVENTARIO 24-27 '!F27 -> 2 MESAS DUNA PLEGABLE COLOR BLANCO | D39: =+'INVENTARIO 24-27 '!D27 -> 1.2.4.1.2.1 | E39: =+'INVENTARIO 24-27 '!J27 -> LEOBARDO VAZQUEZ REYES | F39: =+'INVENTARIO 24-27 '!I27 -> RECIBIDO DE LA ADMINISTRACIÒN 2021-2024 C.F.D.I. 4920, CRISTAL RAMIREZ CARCAMO | G39: RECIBIDO EN ENTREGA RECEPCION | H39: N/A | I39: N/A | J39: 5. Recursos Federales | K39: =+'INVENTARIO 24-27 '!N27 -> -37512.64 | L39: =+'INVENTARIO 24-27 '!M27 -> 04/02/2022 | M39: 0 | N39: 0 | O39: 0 | P39: 0 | Q39: 0 | R39: =+K39-Q39 -> -37512.64
B40: =+'INVENTARIO 24-27 '!B28 -> 0000054 5121-0000054 | C40: =+'INVENTARIO 24-27 '!F28 -> JUEGO DE CONSULTORIO COLOR NARANJA | D40: =+'INVENTARIO 24-27 '!D28 -> 1.2.4.1.2.1 | E40: =+'INVENTARIO 24-27 '!J28 -> NATALIA VAZQUEZ PEREZ | F40: =+'INVENTARIO 24-27 '!I28 -> RECIBIDO DE LA ADMINISTRACIÒN 2021-2024 C.F.D.I. FQ 4698, GABRIEL RAYMUNDO MARTINEZ ARANDO | G40: RECIBIDO EN ENTREGA RECEPCION | H40: N/A | I40: N/A | J40: 5. Recursos Federales | K40: =+'INVENTARIO 24-27 '!N28 -> 6758.82 | L40: =+'INVENTARIO 24-27 '!M28 -> 04/07/2022 | M40: 0 | N40: 0 | O40: 0 | P40: 0 | Q40: 0 | R40: =+K40-Q40 -> 6758.82
B41: 0000069 5111-0000069 2018/EO/16 | C41: 28 MESAS RECTANGULARES PLEGABLES | D41: 1.2.4.1.2.1 | E41: ANDRÉS PÉREZ VÁZQUEZ | F41: RECIBIDO DE LA ADMINISTRACIÓN 2021-2024 SIN NINGÚN DOCUMENTO | G41: RECBIDO EN ENTREGA RECEPCIÓN | H41: N/A | I41: N/A | J41: 5. Recursos Federales | K41: 55785.42 | L41: 41871 | M41: 0 | N41: 0 | O41: 0 | P41: 0 | Q41: 0 | R41: =+K41-Q41 -> 55785.42
B42: SUBTOTAL DE MUEBLES, EXCEPTO DE OFICINA Y ESTANTERIA | K42: =SUM(K39:K41) -> 25031.6 | L42: 45838 | M42: =SUM(M39:M41) -> 0 | N42: =SUM(N39:N41) -> 0 | O42: =SUM(O39:O41) -> 0 | P42: =SUM(P39:P41) -> 0 | Q42: =SUM(Q39:Q41) -> 0 | R42: =SUM(R39:R41) -> 25031.6
B43: EQUIPO DE COMPUTO Y TECNOLOGIAS DE LA INFORMACIÒN
B44: =+'INVENTARIO 24-27 '!B29 -> 0000016 5151-0000016 2018/EC/001 | C44: =+'INVENTARIO 24-27 '!F29 -> EQUIPO DE COMPUTO HP N/SERIE CNC638087F COLOR NEGRO | D44: =+'INVENTARIO 24-27 '!D29 -> 1.2.4.1.3.1 | E44: =+'INVENTARIO 24-27 '!J29 -> JORGE HERRERO CALLEJA | F44: =+'INVENTARIO 24-27 '!I29 -> RECIBIDO DE LA ADMINISTRACIÒN 2021-2024 SIN NINGUN DOCUMENTO | G44: RECIBIDO EN ENTREGA RECEPCION | H44: N/A | I44: N/A | J44: 5. Recursos Federales | K44: =+'INVENTARIO 24-27 '!N29 -> 1 | L44: =+'INVENTARIO 24-27 '!M29 -> 28/02/2011 | M44: 0 | N44: 0 | O44: 0 | P44: 0 | Q44: 0 | R44: =+K44-Q44 -> 1
B45: =+'INVENTARIO 24-27 '!B30 -> 0000017 5151-0000017 2018/EC/002 | C45: =+'INVENTARIO 24-27 '!F30 -> IMPRESORA LASER JET COLOR NEGRO | D45: =+'INVENTARIO 24-27 '!D30 -> 1.2.4.1.3.1 | E45: =+'INVENTARIO 24-27 '!J30 -> ANDRES PEREZ VAZQUEZ | F45: =+'INVENTARIO 24-27 '!I30 -> RECIBIDO DE LA ADMINISTRACIÒN 2021-2024 SIN NINGUN DOCUMENTO | G45: RECIBIDO EN ENTREGA RECEPCION | H45: N/A | I45: N/A | J45: 5. Recursos Federales | K45: =+'INVENTARIO 24-27 '!N30 -> 1 | L45: =+'INVENTARIO 24-27 '!M30 -> 20/03/2011 | M45: 0 | N45: 0 | O45: 0 | P45: 0 | Q45: 0 | R45: =+K45-Q45 -> 1
B46: =+'INVENTARIO 24-27 '!B31 -> 0000018 5151-0000018 2018/EC/003 | C46: =+'INVENTARIO 24-27 '!F31 -> COMPUTADORA AIO PC 8CC8490LM2 COLOR NEGRO | D46: =+'INVENTARIO 24-27 '!D31 -> 1.2.4.1.3.1 | E46: =+'INVENTARIO 24-27 '!J31 -> JOSE ORLANDO ZARAGOZA BECERRA | F46: =+'INVENTARIO 24-27 '!I31 -> RECIBIDO DE LA ADMINISTRACIÒN 2021-2024 SIN NINGUN DOCUMENTO | G46: RECIBIDO EN ENTREGA RECEPCION | H46: N/A | I46: N/A | J46: 5. Recursos Federales | K46: =+'INVENTARIO 24-27 '!N31 -> 0 | L46: =+'INVENTARIO 24-27 '!M31 -> 15/05/2015 | M46: 0 | N46: 0 | O46: 0 | P46: 0 | Q46: 0 | R46: =+K46-Q46 -> 0
B47: =+'INVENTARIO 24-27 '!B32 -> 0000019 5151-0000019 2018/EC/004 | C47: =+'INVENTARIO 24-27 '!F32 -> MULTIFUNCIONAL EPSON IMPRESORA MULTICOLOR X4ER022107 | D47: =+'INVENTARIO 24-27 '!D32 -> 1.2.4.1.3.1 | E47: =+'INVENTARIO 24-27 '!J32 -> ANDRES PEREZ VAZQUEZ | F47: =+'INVENTARIO 24-27 '!I32 -> RECIBIDO DE LA ADMINISTRACIÒN 2021-2024 SIN NINGUN DOCUMENTO | G47: RECIBIDO EN ENTREGA RECEPCION | H47: N/A | I47: N/A | J47: 5. Recursos Federales | K47: =+'INVENTARIO 24-27 '!N32 -> 1 | L47: =+'INVENTARIO 24-27 '!M32 -> 19/12/2015 | M47: 0 | N47: 0 | O47: 0 | P47: 0 | Q47: 0 | R47: =+K47-Q47 -> 1
B48: =+'INVENTARIO 24-27 '!B33 -> 0000020 5111-0000020 2018/EC/005 | C48: =+'INVENTARIO 24-27 '!F33 -> MULTIFUNCIONAL LASER HP N/SERIE CNJ8G1Q5HB COLOR NEGRO | D48: =+'INVENTARIO 24-27 '!D33 -> 1.2.4.1.3.1 | E48: =+'INVENTARIO 24-27 '!J33 -> ARELI SANCHEZ VAZQUEZ | F48: =+'INVENTARIO 24-27 '!I33 -> RECIBIDO DE LA ADMINISTRACIÒN 2021-2024 SIN NINGUN DOCUMENTO | G48: RECIBIDO EN ENTREGA RECEPCION | H48: N/A | I48: N/A | J48: 5. Recursos Federales | K48: =+'INVENTARIO 24-27 '!N33 -> 1 | L48: =+'INVENTARIO 24-27 '!M33 -> 19/12/2015 | M48: 0 | N48: 0 | O48: 0 | P48: 0 | Q48: 0 | R48: =+K48-Q48 -> 1
B49: =+'INVENTARIO 24-27 '!B34 -> 0000021 5151-0000021 2018/EC/006 | C49: =+'INVENTARIO 24-27 '!F34 -> COMPUTADORA AIO PC 8CC82516X5 COLOR NEGRO | D49: =+'INVENTARIO 24-27 '!D34 -> 1.2.4.1.3.1 | E49: =+'INVENTARIO 24-27 '!J34 -> ANDRES PEREZ VAZQUEZ | F49: =+'INVENTARIO 24-27 '!I34 -> RECIBIDO DE LA ADMINISTRACIÒN 2021-2024 SIN NINGUN DOCUMENTO | G49: RECIBIDO EN ENTREGA RECEPCION | H49: N/A | I49: N/A | J49: 5. Recursos Federales | K49: =+'INVENTARIO 24-27 '!N34 -> 1 | L49: 13/09/2016 | M49: 0 | N49: 0 | O49: 0 | P49: 0 | Q49: 0 | R49: =+K49-Q49 -> 1
...

Sheet ANEXO 2
D4: CLAVE: | F4: 24-03
D6: ENTIDAD FISCALIZADA: | F6: MUNICIPIO DE AMIXTLÁN PUEBLA.
D8: INVENTARIO DE BIENES INMUEBLES AL TREINTA Y UNO DE DICIEMBRE DEL DOS MIL VEINTICINCO
B12: BIENES INMUEBLES
B13: Número de inventario (Código) | C13: Descripción | D13: Subcuenta | E13: Documento que acredita la Propiedad (escritura pública) | F13: Fecha de Adquisición | G13: Motivo de alta | H13: Motivo de baja | I13: Documento que acredita la baja | J13: Fuente de financiamiento | K13: Importe | L13: % Depreciación Bien Inmueble | M13: % Depreciación del ejercicio | N13: % Depreciación Acumulada al final del ejercicio | O13: Monto Depreciación del ejercicio | P13: Monto Depreciación Acumulada al final del ejercicio | Q13: Valor Neto en libros al 31 de diciembre de 2017
K15: A | L15: B | M15: C | N15: D = C | O15: E | P15: F = E | Q15: G= A - F
B16: TERRENOS
B17: 0000001 01010000-0000001 | C17: TERRENO MANANTIAL DE AGUA | D17: 1231-02 | E17: RECIBIDO DE LA ADMINISTRACIÓN 2021-2024 SIN NINGÚN DOCUMENTO | F17: 45831 | G17: RECIBIDO EN ENTREGA RECEPCIÓN | H17: NA | I17: NA | J17: 5. Recursos Federales | K17: 25000 | L17: 0 | M17: 0 | N17: =+M17 -> 0 | O17: 0 | P17: =+O17 -> 0 | Q17: =+K17-P17 -> 25000
B18: 0000002 01010000-0000002 | C18: TERRENO PARA JARDÍN DE NIÑOS TOMÁS MEJÍA | D18: 1231-01 | E18: RECIBIDO DE LA ADMINISTRACIÓN 2021-2024 SIN NINGÚN DOCUMENTO | F18: 41999 | G18: RECIBIDO EN ENTREGA RECEPCIÓN | H18: NA | I18: NA | J18: 5. Recursos Federales | K18: 15001 | L18: 0 | M18: 0 | N18: =+M18 -> 0 | O18: 0 | P18: =+O18 -> 0 | Q18: =+K18-P18 -> 15001
B19: 0000003 01010000-0000003 | C19: TERRENO PARA JUZGADO DE CACOCHÓN | D19: 1231-01 | E19: RECIBIDO DE LA ADMINISTRACIÓN 2021-2024 SIN NINGÚN DOCUMENTO | F19: 39263 | G19: RECIBIDO EN ENTREGA RECEPCIÓN | H19: NA | I19: NA | J19: 5. Recursos Federales | K19: 15000 | L19: 0 | M19: 0 | N19: =+M19 -> 0 | O19: 0 | P19: =+O19 -> 0 | Q19: =+K19-P19 -> 15000
B20: 0000006-01010000-0000006 | C20: PREDIO PARA EL BANCO DE BIENESTAR | D20: 1231-01 | E20: RECIBIDO DE LA ADMINISTRACIÓN 2021-2024 SIN NINGÚN DOCUMENTO | F20: 45580 | G20: RECIBIDO EN ENTREGA RECEPCIÓN | H20: NA | I20: NA | J20: 5. Recursos Federales | K20: 380000 | L20: 0 | M20: 0 | N20: =+M20 -> 0 | O20: 0 | P20: =+O20 -> 0 | Q20: =+K20-P20 -> 380000
J21: SUBTOTAL TERRENOS: | K21: =SUM(K17:K20) -> 435001 | L21: =SUM(L17:L20) -> 0 | M21: =SUM(M17:M20) -> 0 | N21: =SUM(N17:N20) -> 0 | O21: =SUM(O17:O20) -> 0 | P21: =SUM(P17:P20) -> 0 | Q21: =SUM(Q17:Q20) -> 435001
B23: EDIFICIOS NO HABITACIONALES
B24: 0000004 03020110-0000004 | C24: PRESIDENCIA MUNICIPAL | D24: 1231-01 | E24: RECIBIDO DE LA ADMINISTRACIÓN 2021-2024 SIN NINGÚN DOCUMENTO | F24: 31048 | G24: RECIBIDO EN ENTREGA RECEPCIÓN | H24: NA | I24: NA | J24: 5. Recursos Federales | K24: 3000000 | L24: 0 | M24: 0 | N24: =+M24 -> 0 | O24: 0 | P24: =+O24 -> 0 | Q24: =+K24-P24 -> 3000000
B25: 0000005 03020108-0000005 | C25: MERCADO MUNICIPAL | D25: 1231-01 | E25: RECIBIDO DE LA ADMINISTRACIÓN 2021-2024 SIN NINGÚN DOCUMENTO | F25: 31048 | G25: RECIBIDO EN ENTREGA RECEPCIÓN | H25: NA | I25: NA | J25: 5. Recursos Federales | K25: 2836000 | L25: 0 | M25: 0 | N25: =+M25 -> 0 | O25: 0 | P25: =+O25 -> 0 | Q25: =+K25-P25 -> 2836000
J26: SUBTOTAL EDIFICIOS NO HABITACIONALES: | K26: =SUM(K23:K25) -> 5836000 | L26: 0 | M26: 0 | N26: =+M26 -> 0 | O26: 0 | P26: =+O26 -> 0 | Q26: =+K26-P26 -> 5836000
J27: TOTAL BIENES INMUEBLES | K27: =+K21+K26 -> 6271001 | L27: =+L21+L26 -> 0 | M27: =+M21+M26 -> 0 | N27: =+N21+N26 -> 0 | O27: =+O21+O26 -> 0 | P27: =+P21+P26 -> 0 | Q27: =+Q21+Q26 -> 6271001
B30: BAJO PROTESTA DE DECIR VERDAD DECLARAMOS QUE LOS DATOS ANOTADOS EN EL FORMATO, SON CORRECTOS Y SON RESPONSABILIDAD DEL EMISOR.
